BEGIN:VCALENDAR
VERSION:2.0
PRODID:-//Lycée Français International de Mumbai - ECPv6.15.20//NONSGML v1.0//EN
CALSCALE:GREGORIAN
METHOD:PUBLISH
X-ORIGINAL-URL:https://lfim.in
X-WR-CALDESC:Events for Lycée Français International de Mumbai
REFRESH-INTERVAL;VALUE=DURATION:PT1H
X-Robots-Tag:noindex
X-PUBLISHED-TTL:PT1H
BEGIN:VTIMEZONE
TZID:Asia/Kolkata
BEGIN:STANDARD
TZOFFSETFROM:+0530
TZOFFSETTO:+0530
TZNAME:IST
DTSTART:20210101T000000
END:STANDARD
END:VTIMEZONE
BEGIN:VEVENT
DTSTART;TZID=Asia/Kolkata:20231209T100000
DTEND;TZID=Asia/Kolkata:20231209T160000
DTSTAMP:20260423T142527
CREATED:20231220T094609Z
LAST-MODIFIED:20231220T095355Z
UID:12177-1702116000-1702137600@lfim.in
SUMMARY:Fête du LFIM et Marché de Noël
DESCRIPTION:
URL:https://lfim.in/fete-du-lfim-et-marche-de-noel/
CATEGORIES:School Calendar
END:VEVENT
BEGIN:VEVENT
DTSTART;TZID=Asia/Kolkata:20231129T090000
DTEND;TZID=Asia/Kolkata:20231129T110000
DTSTAMP:20260423T142527
CREATED:20231220T095540Z
LAST-MODIFIED:20231220T095540Z
UID:12199-1701248400-1701255600@lfim.in
SUMMARY:Open House - November 2023
DESCRIPTION:
URL:https://lfim.in/open-house-november-2023/
CATEGORIES:School Calendar
END:VEVENT
BEGIN:VEVENT
DTSTART;VALUE=DATE:20231028
DTEND;VALUE=DATE:20231113
DTSTAMP:20260423T142527
CREATED:20231005T090422Z
LAST-MODIFIED:20231005T090422Z
UID:12074-1698451200-1699833599@lfim.in
SUMMARY:Diwali Break 2023
DESCRIPTION:
URL:https://lfim.in/diwali-break-2023-2/
CATEGORIES:School Calendar
END:VEVENT
BEGIN:VEVENT
DTSTART;TZID=Asia/Kolkata:20231025T090000
DTEND;TZID=Asia/Kolkata:20231025T110000
DTSTAMP:20260423T142527
CREATED:20231220T095650Z
LAST-MODIFIED:20231220T095650Z
UID:12201-1698224400-1698231600@lfim.in
SUMMARY:Open House - October 2023
DESCRIPTION:
URL:https://lfim.in/open-house-october-2023/
CATEGORIES:School Calendar,Upcoming Events
END:VEVENT
BEGIN:VEVENT
DTSTART;VALUE=DATE:20231002
DTEND;VALUE=DATE:20231003
DTSTAMP:20260423T142527
CREATED:20231002T085618Z
LAST-MODIFIED:20231005T085808Z
UID:12071-1696204800-1696291199@lfim.in
SUMMARY:Gandhi Jayanti
DESCRIPTION:
URL:https://lfim.in/gandhi-jayanti/
CATEGORIES:School Calendar
END:VEVENT
BEGIN:VEVENT
DTSTART;TZID=Asia/Kolkata:20230904T153000
DTEND;TZID=Asia/Kolkata:20230908T163000
DTSTAMP:20260423T142527
CREATED:20230802T105937Z
LAST-MODIFIED:20230802T105937Z
UID:11930-1693841400-1694190600@lfim.in
SUMMARY:After-School Programme - Trial Week / T1 / 2023-2024
DESCRIPTION:
URL:https://lfim.in/after-school-programme-trial-week-t1-2023-2024/
CATEGORIES:School Calendar
END:VEVENT
BEGIN:VEVENT
DTSTART;TZID=Asia/Kolkata:20230901T081500
DTEND;TZID=Asia/Kolkata:20230901T121500
DTSTAMP:20260423T142527
CREATED:20230802T105558Z
LAST-MODIFIED:20230818T040015Z
UID:11926-1693556100-1693570500@lfim.in
SUMMARY:La Rentrée 2023-2024
DESCRIPTION:School reopens and classes resume for all grades.
URL:https://lfim.in/la-rentree-2023-2024/
CATEGORIES:School Calendar
END:VEVENT
BEGIN:VEVENT
DTSTART;VALUE=DATE:20230701
DTEND;VALUE=DATE:20230901
DTSTAMP:20260423T142527
CREATED:20221014T070129Z
LAST-MODIFIED:20221019T081149Z
UID:11235-1688169600-1693526399@lfim.in
SUMMARY:Summer Vacations
DESCRIPTION:
URL:https://lfim.in/summer-vacations/
CATEGORIES:School Calendar
END:VEVENT
BEGIN:VEVENT
DTSTART;VALUE=DATE:20230529
DTEND;VALUE=DATE:20230530
DTSTAMP:20260423T142527
CREATED:20221014T070001Z
LAST-MODIFIED:20221014T070001Z
UID:11233-1685318400-1685404799@lfim.in
SUMMARY:Whit Monday
DESCRIPTION:
URL:https://lfim.in/whit-monday-2/
CATEGORIES:School Calendar
END:VEVENT
BEGIN:VEVENT
DTSTART;VALUE=DATE:20230429
DTEND;VALUE=DATE:20230515
DTSTAMP:20260423T142527
CREATED:20221014T065931Z
LAST-MODIFIED:20221014T065931Z
UID:11231-1682726400-1684108799@lfim.in
SUMMARY:Mid-term Break
DESCRIPTION:
URL:https://lfim.in/mid-term-break-4/
CATEGORIES:School Calendar
END:VEVENT
BEGIN:VEVENT
DTSTART;VALUE=DATE:20230407
DTEND;VALUE=DATE:20230408
DTSTAMP:20260423T142527
CREATED:20221014T063621Z
LAST-MODIFIED:20221014T063621Z
UID:11228-1680825600-1680911999@lfim.in
SUMMARY:Good Friday
DESCRIPTION:
URL:https://lfim.in/good-friday/
CATEGORIES:School Calendar
END:VEVENT
BEGIN:VEVENT
DTSTART;TZID=Asia/Kolkata:20230405T080000
DTEND;TZID=Asia/Kolkata:20230405T140000
DTSTAMP:20260423T142527
CREATED:20230314T050004Z
LAST-MODIFIED:20230314T050004Z
UID:11778-1680681600-1680703200@lfim.in
SUMMARY:Parent-Teacher Meetings / Elementary / Trimester 2
DESCRIPTION:
URL:https://lfim.in/parent-teacher-meetings-elementary-trimester-2/
CATEGORIES:School Calendar
END:VEVENT
BEGIN:VEVENT
DTSTART;VALUE=DATE:20230225
DTEND;VALUE=DATE:20230313
DTSTAMP:20260423T142527
CREATED:20221014T063228Z
LAST-MODIFIED:20221014T063228Z
UID:11226-1677283200-1678665599@lfim.in
SUMMARY:Holi Break
DESCRIPTION:
URL:https://lfim.in/holi-break/
CATEGORIES:School Calendar
END:VEVENT
BEGIN:VEVENT
DTSTART;VALUE=DATE:20230126
DTEND;VALUE=DATE:20230127
DTSTAMP:20260423T142527
CREATED:20221014T063130Z
LAST-MODIFIED:20221014T082250Z
UID:11224-1674691200-1674777599@lfim.in
SUMMARY:Republic Day
DESCRIPTION:
URL:https://lfim.in/republic-day-2022-2/
CATEGORIES:School Calendar
END:VEVENT
BEGIN:VEVENT
DTSTART;TZID=Asia/Kolkata:20230125T093000
DTEND;TZID=Asia/Kolkata:20230125T110000
DTSTAMP:20260423T142527
CREATED:20221227T054049Z
LAST-MODIFIED:20221227T054209Z
UID:11559-1674639000-1674644400@lfim.in
SUMMARY:Open House - 25 January 2023
DESCRIPTION:LFIM’s 3rd Open House\nWednesday\, 25 January 2023 \nEntry strictly reserved for new families and students only.\nRSVP here
URL:https://lfim.in/open-house-25-january-2023/
CATEGORIES:School Calendar,Upcoming Events
END:VEVENT
BEGIN:VEVENT
DTSTART;TZID=Asia/Kolkata:20230116T153000
DTEND;TZID=Asia/Kolkata:20230623T163000
DTSTAMP:20260423T142527
CREATED:20230118T043833Z
LAST-MODIFIED:20230118T044035Z
UID:11597-1673883000-1687537800@lfim.in
SUMMARY:After-school activities / Term 2
DESCRIPTION:After-school Programme at LFIM / Term 2 \nKindergarten\, Elementary\nMonday\, Tuesday\, Thursday: 3:30pm – 4:30pm\nWednesday\, Friday: 12:45 – 1:45pm \nSecondary\nMonday\, Tuesday\, Thursday\, Friday: 4:30pm – 5:30pm\nWednesday: 12:45 – 1:45pm
URL:https://lfim.in/after-school-activities-term-2/
CATEGORIES:School Calendar
END:VEVENT
BEGIN:VEVENT
DTSTART;VALUE=DATE:20230109
DTEND;VALUE=DATE:20230114
DTSTAMP:20260423T142527
CREATED:20230118T043054Z
LAST-MODIFIED:20230118T043054Z
UID:11593-1673222400-1673654399@lfim.in
SUMMARY:After-school programme / Term 2 / Trial Week
DESCRIPTION:
URL:https://lfim.in/after-school-programme-term-2-trial-week/
CATEGORIES:School Calendar
END:VEVENT
BEGIN:VEVENT
DTSTART;VALUE=DATE:20221221
DTEND;VALUE=DATE:20230109
DTSTAMP:20260423T142527
CREATED:20221014T063101Z
LAST-MODIFIED:20221025T054409Z
UID:11222-1671580800-1673222399@lfim.in
SUMMARY:Christmas Break
DESCRIPTION:
URL:https://lfim.in/christmas-break-2022/
CATEGORIES:School Calendar
END:VEVENT
BEGIN:VEVENT
DTSTART;VALUE=DATE:20221107
DTEND;VALUE=DATE:20221108
DTSTAMP:20260423T142527
CREATED:20221025T054431Z
LAST-MODIFIED:20221025T054431Z
UID:11280-1667779200-1667865599@lfim.in
SUMMARY:Halloween Party
DESCRIPTION:
URL:https://lfim.in/halloween-party/
CATEGORIES:School Calendar
END:VEVENT
BEGIN:VEVENT
DTSTART;VALUE=DATE:20221022
DTEND;VALUE=DATE:20221107
DTSTAMP:20260423T142527
CREATED:20221014T063021Z
LAST-MODIFIED:20221025T054335Z
UID:11220-1666396800-1667779199@lfim.in
SUMMARY:Diwali Break
DESCRIPTION:
URL:https://lfim.in/diwali-break-2022/
CATEGORIES:School Calendar
END:VEVENT
BEGIN:VEVENT
DTSTART;VALUE=DATE:20221020
DTEND;VALUE=DATE:20221021
DTSTAMP:20260423T142527
CREATED:20221019T074135Z
LAST-MODIFIED:20221019T074135Z
UID:11248-1666224000-1666310399@lfim.in
SUMMARY:Diwali Celebrations
DESCRIPTION:
URL:https://lfim.in/diwali-celebrations/
CATEGORIES:School Calendar
END:VEVENT
BEGIN:VEVENT
DTSTART;VALUE=DATE:20221005
DTEND;VALUE=DATE:20221006
DTSTAMP:20260423T142527
CREATED:20220907T075928Z
LAST-MODIFIED:20220907T075943Z
UID:11065-1664928000-1665014399@lfim.in
SUMMARY:Dussehra 2022
DESCRIPTION:
URL:https://lfim.in/dussehra-2/
CATEGORIES:School Calendar,Upcoming Events
END:VEVENT
BEGIN:VEVENT
DTSTART;TZID=Asia/Kolkata:20220902T080000
DTEND;TZID=Asia/Kolkata:20220902T153000
DTSTAMP:20260423T142527
CREATED:20220704T060956Z
LAST-MODIFIED:20220907T112859Z
UID:10977-1662105600-1662132600@lfim.in
SUMMARY:Back to School 2022
DESCRIPTION:
URL:https://lfim.in/back-to-school-2022/
CATEGORIES:School Calendar,Upcoming Events
END:VEVENT
BEGIN:VEVENT
DTSTART;VALUE=DATE:20220701
DTEND;VALUE=DATE:20220901
DTSTAMP:20260423T142527
CREATED:20220502T091230Z
LAST-MODIFIED:20220907T112900Z
UID:10918-1656633600-1661990399@lfim.in
SUMMARY:Summer Break 2022
DESCRIPTION:
URL:https://lfim.in/back-to-school-2022/
CATEGORIES:School Calendar,Upcoming Events
END:VEVENT
BEGIN:VEVENT
DTSTART;VALUE=DATE:20220606
DTEND;VALUE=DATE:20220607
DTSTAMP:20260423T142527
CREATED:20220416T032558Z
LAST-MODIFIED:20220907T112900Z
UID:10945-1654473600-1654559999@lfim.in
SUMMARY:Whit Monday
DESCRIPTION:
URL:https://lfim.in/back-to-school-2022/
CATEGORIES:School Calendar,Upcoming Events
END:VEVENT
BEGIN:VEVENT
DTSTART;VALUE=DATE:20220502
DTEND;VALUE=DATE:20220514
DTSTAMP:20260423T142527
CREATED:20220322T080433Z
LAST-MODIFIED:20220907T112900Z
UID:10819-1651449600-1652486399@lfim.in
SUMMARY:Mid-term Break 2022
DESCRIPTION:
URL:https://lfim.in/back-to-school-2022/
CATEGORIES:School Calendar,Upcoming Events
END:VEVENT
BEGIN:VEVENT
DTSTART;VALUE=DATE:20220415
DTEND;VALUE=DATE:20220416
DTSTAMP:20260423T142527
CREATED:20220319T104942Z
LAST-MODIFIED:20220907T112900Z
UID:10871-1649980800-1650067199@lfim.in
SUMMARY:Good Friday - 2022
DESCRIPTION:
URL:https://lfim.in/back-to-school-2022/
CATEGORIES:School Calendar,Upcoming Events
END:VEVENT
BEGIN:VEVENT
DTSTART;VALUE=DATE:20220318
DTEND;VALUE=DATE:20220319
DTSTAMP:20260423T142527
CREATED:20220303T073546Z
LAST-MODIFIED:20220907T112900Z
UID:10785-1647561600-1647647999@lfim.in
SUMMARY:Holi
DESCRIPTION:
URL:https://lfim.in/back-to-school-2022/
CATEGORIES:School Calendar,Upcoming Events
END:VEVENT
BEGIN:VEVENT
DTSTART;VALUE=DATE:20220228
DTEND;VALUE=DATE:20220312
DTSTAMP:20260423T142527
CREATED:20220105T034422Z
LAST-MODIFIED:20220907T112900Z
UID:10643-1646006400-1647043199@lfim.in
SUMMARY:Spring Break 2022
DESCRIPTION:
URL:https://lfim.in/back-to-school-2022/
CATEGORIES:School Calendar,Upcoming Events
END:VEVENT
BEGIN:VEVENT
DTSTART;VALUE=DATE:20220126
DTEND;VALUE=DATE:20220127
DTSTAMP:20260423T142527
CREATED:20220119T095114Z
LAST-MODIFIED:20220907T112900Z
UID:10722-1643155200-1643241599@lfim.in
SUMMARY:Republic Day 2022
DESCRIPTION:
URL:https://lfim.in/back-to-school-2022/
CATEGORIES:School Calendar,Upcoming Events
END:VEVENT
END:VCALENDAR